Workbook

Sheet 1_2_1
E1: 最新情報はこちら → | F1: https://www.u-tokyo.ac.jp/ja/students/edu-data/e08_02_01.html
A2: 学生・研究生・聴講生数
A3: 学部
A4: 課程 | B4: 学部 | C4: 学部学生 | F4: 学部研究生 | I4: 学部聴講生 | L4: 計 | N4: 合計
C5: 男 | D5: 女 | E5: 小計 | F5: 男 | G5: 女 | H5: 小計 | I5: 男 | J5: 女 | K5: 小計 | L5: 男 | M5: 女
A6: 前期課程 | B6: 教養 | C6: 5221 | D6: 1414 | E6: =SUM(C6:D6) -> 6635 | F6: 0 | G6: 0 | H6: =SUM(F6:G6) -> 0 | I6: 0 | J6: 0 | K6: =SUM(I6:J6) -> 0 | L6: =SUM(C6,F6,I6) -> 5221 | M6: =SUM(D6,G6,J6) -> 1414 | N6: =SUM(L6:M6) -> 6635
C7: 88 | D7: 56 | E7: =SUM(C7:D7) -> 144 | F7: 0 | G7: 0 | H7: =SUM(F7:G7) -> 0 | I7: 0 | J7: 0 | K7: =SUM(I7:J7) -> 0 | L7: =SUM(C7,F7,I7) -> 88 | M7: =SUM(D7,G7,J7) -> 56 | N7: =SUM(L7:M7) -> 144
A8: 後期課程 | B8: 法 | C8: 673 | D8: 262 | E8: =SUM(C8:D8) -> 935 | F8: 0 | G8: 0 | H8: =SUM(F8:G8) -> 0 | I8: 17 | J8: 2 | K8: =SUM(I8:J8) -> 19 | L8: =SUM(C8,F8,I8) -> 690 | M8: =SUM(D8,G8,J8) -> 264 | N8: =SUM(L8:M8) -> 954
C9: 12 | D9: 5 | E9: =SUM(C9:D9) -> 17 | F9: 0 | G9: 0 | H9: =SUM(F9:G9) -> 0 | I9: 0 | J9: 0 | K9: =SUM(I9:J9) -> 0 | L9: =SUM(C9,F9,I9) -> 12 | M9: =SUM(D9,G9,J9) -> 5 | N9: =SUM(L9:M9) -> 17
B10: 医 | C10: 382 | D10: 125 | E10: =SUM(C10:D10) -> 507 | F10: 0 | G10: 1 | H10: =SUM(F10:G10) -> 1 | I10: 0 | J10: 0 | K10: =SUM(I10:J10) -> 0 | L10: =SUM(C10,F10,I10) -> 382 | M10: =SUM(D10,G10,J10) -> 126 | N10: =SUM(L10:M10) -> 508
C11: 1 | D11: 0 | E11: =SUM(C11:D11) -> 1 | F11: 0 | G11: 0 | H11: =SUM(F11:G11) -> 0 | I11: 0 | J11: 0 | K11: =SUM(I11:J11) -> 0 | L11: =SUM(C11,F11,I11) -> 1 | M11: =SUM(D11,G11,J11) -> 0 | N11: =SUM(L11:M11) -> 1
B12: 工 | C12: 1924 | D12: 260 | E12: =SUM(C12:D12) -> 2184 | F12: 6 | G12: 2 | H12: =SUM(F12:G12) -> 8 | I12: 10 | J12: 2 | K12: =SUM(I12:J12) -> 12 | L12: =SUM(C12,F12,I12) -> 1940 | M12: =SUM(D12,G12,J12) -> 264 | N12: =SUM(L12:M12) -> 2204
C13: 20 | D13: 9 | E13: =SUM(C13:D13) -> 29 | F13: 1 | G13: 1 | H13: =SUM(F13:G13) -> 2 | I13: 1 | J13: 0 | K13: =SUM(I13:J13) -> 1 | L13: =SUM(C13,F13,I13) -> 22 | M13: =SUM(D13,G13,J13) -> 10 | N13: =SUM(L13:M13) -> 32
B14: 文 | C14: 584 | D14: 252 | E14: =SUM(C14:D14) -> 836 | F14: 0 | G14: 0 | H14: =SUM(F14:G14) -> 0 | I14: 0 | J14: 0 | K14: =SUM(I14:J14) -> 0 | L14: =SUM(C14,F14,I14) -> 584 | M14: =SUM(D14,G14,J14) -> 252 | N14: =SUM(L14:M14) -> 836
C15: 2 | D15: 8 | E15: =SUM(C15:D15) -> 10 | F15: 0 | G15: 0 | H15: =SUM(F15:G15) -> 0 | I15: 0 | J15: 0 | K15: =SUM(I15:J15) -> 0 | L15: =SUM(C15,F15,I15) -> 2 | M15: =SUM(D15,G15,J15) -> 8 | N15: =SUM(L15:M15) -> 10
B16: 理 | C16: 588 | D16: 72 | E16: =SUM(C16:D16) -> 660 | F16: 1 | G16: 0 | H16: =SUM(F16:G16) -> 1 | I16: 0 | J16: 0 | K16: =SUM(I16:J16) -> 0 | L16: =SUM(C16,F16,I16) -> 589 | M16: =SUM(D16,G16,J16) -> 72 | N16: =SUM(L16:M16) -> 661
C17: 12 | D17: 3 | E17: =SUM(C17:D17) -> 15 | F17: 0 | G17: 0 | H17: =SUM(F17:G17) -> 0 | I17: 0 | J17: 0 | K17: =SUM(I17:J17) -> 0 | L17: =SUM(C17,F17,I17) -> 12 | M17: =SUM(D17,G17,J17) -> 3 | N17: =SUM(L17:M17) -> 15
B18: 農 | C18: 470 | D18: 159 | E18: =SUM(C18:D18) -> 629 | F18: 1 | G18: 0 | H18: =SUM(F18:G18) -> 1 | I18: 0 | J18: 0 | K18: =SUM(I18:J18) -> 0 | L18: =SUM(C18,F18,I18) -> 471 | M18: =SUM(D18,G18,J18) -> 159 | N18: =SUM(L18:M18) -> 630
C19: 2 | D19: 0 | E19: =SUM(C19:D19) -> 2 | F19: 0 | G19: 0 | H19: =SUM(F19:G19) -> 0 | I19: 0 | J19: 0 | K19: =SUM(I19:J19) -> 0 | L19: =SUM(C19,F19,I19) -> 2 | M19: =SUM(D19,G19,J19) -> 0 | N19: =SUM(L19:M19) -> 2
B20: 経済 | C20: 623 | D20: 158 | E20: =SUM(C20:D20) -> 781 | F20: 0 | G20: 0 | H20: =SUM(F20:G20) -> 0 | I20: 1 | J20: 2 | K20: =SUM(I20:J20) -> 3 | L20: =SUM(C20,F20,I20) -> 624 | M20: =SUM(D20,G20,J20) -> 160 | N20: =SUM(L20:M20) -> 784
C21: 4 | D21: 6 | E21: =SUM(C21:D21) -> 10 | F21: 0 | G21: 0 | H21: =SUM(F21:G21) -> 0 | I21: 0 | J21: 0 | K21: =SUM(I21:J21) -> 0 | L21: =SUM(C21,F21,I21) -> 4 | M21: =SUM(D21,G21,J21) -> 6 | N21: =SUM(L21:M21) -> 10
B22: 教養 | C22: 343 | D22: 179 | E22: =SUM(C22:D22) -> 522 | F22: 4 | G22: 0 | H22: =SUM(F22:G22) -> 4 | I22: 0 | J22: 0 | K22: =SUM(I22:J22) -> 0 | L22: =SUM(C22,F22,I22) -> 347 | M22: =SUM(D22,G22,J22) -> 179 | N22: =SUM(L22:M22) -> 526
C23: 24 | D23: 22 | E23: =SUM(C23:D23) -> 46 | F23: 1 | G23: 0 | H23: =SUM(F23:G23) -> 1 | I23: 0 | J23: 0 | K23: =SUM(I23:J23) -> 0 | L23: =SUM(C23,F23,I23) -> 25 | M23: =SUM(D23,G23,J23) -> 22 | N23: =SUM(L23:M23) -> 47
B24: 教育 | C24: 129 | D24: 83 | E24: =SUM(C24:D24) -> 212 | F24: 1 | G24: 3 | H24: =SUM(F24:G24) -> 4 | I24: 0 | J24: 0 | K24: =SUM(I24:J24) -> 0 | L24: =SUM(C24,F24,I24) -> 130 | M24: =SUM(D24,G24,J24) -> 86 | N24: =SUM(L24:M24) -> 216
C25: 0 | D25: 1 | E25: =SUM(C25:D25) -> 1 | F25: 0 | G25: 0 | H25: =SUM(F25:G25) -> 0 | I25: 0 | J25: 0 | K25: =SUM(I25:J25) -> 0 | L25: =SUM(C25,F25,I25) -> 0 | M25: =SUM(D25,G25,J25) -> 1 | N25: =SUM(L25:M25) -> 1
B26: 薬 | C26: 138 | D26: 59 | E26: =SUM(C26:D26) -> 197 | F26: 1 | G26: 0 | H26: =SUM(F26:G26) -> 1 | I26: 0 | J26: 1 | K26: =SUM(I26:J26) -> 1 | L26: =SUM(C26,F26,I26) -> 139 | M26: =SUM(D26,G26,J26) -> 60 | N26: =SUM(L26:M26) -> 199
C27: 3 | D27: 3 | E27: =SUM(C27:D27) -> 6 | F27: 0 | G27: 0 | H27: =SUM(F27:G27) -> 0 | I27: 0 | J27: 0 | K27: =SUM(I27:J27) -> 0 | L27: =SUM(C27,F27,I27) -> 3 | M27: =SUM(D27,G27,J27) -> 3 | N27: =SUM(L27:M27) -> 6
A28: 合計 | C28: =SUM(C6,C8,C10,C12,C14,C16,C18,C20,C22,C24,C26) -> 11075 | D28: =SUM(D6,D8,D10,D12,D14,D16,D18,D20,D22,D24,D26) -> 3023 | E28: =SUM(E6,E8,E10,E12,E14,E16,E18,E20,E22,E24,E26) -> 14098 | F28: =SUM(F6,F8,F10,F12,F14,F16,F18,F20,F22,F24,F26) -> 14 | G28: =SUM(G6,G8,G10,G12,G14,G16,G18,G20,G22,G24,G26) -> 6 | H28: =SUM(F28:G28) -> 20 | I28: =SUM(I6,I8,I10,I12,I14,I16,I18,I20,I22,I24,I26) -> 28 | J28: =SUM(J6,J8,J10,J12,J14,J16,J18,J20,J22,J24,J26) -> 7 | K28: =SUM(I28:J28) -> 35 | L28: =SUM(L6,L8,L10,L12,L14,L16,L18,L20,L22,L24,L26) -> 11117 | M28: =SUM(M6,M8,M10,M12,M14,M16,M18,M20,M22,M24,M26) -> 3036 | N28: =SUM(N6,N8,N10,N12,N14,N16,N18,N20,N22,N24,N26) -> 14153
C29: =SUM(C7,C9,C11,C13,C15,C17,C19,C21,C23,C25,C27) -> 168 | D29: =SUM(D7,D9,D11,D13,D15,D17,D19,D21,D23,D25,D27) -> 113 | E29: =SUM(E7,E9,E11,E13,E15,E17,E19,E21,E23,E25,E27) -> 281 | F29: =SUM(F7,F9,F11,F13,F15,F17,F19,F21,F23,F25,F27) -> 2 | G29: =SUM(G7,G9,G11,G13,G15,G17,G19,G21,G23,G25,G27) -> 1 | H29: =SUM(F29:G29) -> 3 | I29: =SUM(I7,I9,I11,I13,I15,I17,I19,I21,I23,I25,I27) -> 1 | J29: =SUM(J7,J9,J11,J13,J15,J17,J19,J21,J23,J25,J27) -> 0 | K29: =SUM(I29:J29) -> 1 | L29: =SUM(L7,L9,L11,L13,L15,L17,L19,L21,L23,L25,L27) -> 171 | M29: =SUM(M7,M9,M11,M13,M15,M17,M19,M21,M23,M25,M27) -> 114 | N29: =SUM(N7,N9,N11,N13,N15,N17,N19,N21,N23,N25,N27) -> 285
A30: 〈備考〉1.本表の上段は総数を示し、下段は外国人留学生を内数で示す。 | N30: （令和8年5月1日現在）
A31: 2.学部研究生とは、学部において特殊事項に関する研究をする者、学部聴講生とは、学部の授業科目を聴講する者。
A32: 3.本表には特別聴講学生・科目等履修生は含まない。
A34: 大学院
A35: 研究科・教育部 | B35: 修士 | E35: 専門職学位 | H35: 博士 | K35: 大学院研究生等 | N35: 計 | P35: 合計
B36: 男 | C36: 女 | D36: 小計 | E36: 男 | F36: 女 | G36: 小計 | H36: 男 | I36: 女 | J36: 小計 | K36: 男 | L36: 女 | M36: 小計 | N36: 男 | O36: 女
A37: 人文社会系 | B37: 184 | C37: 118 | D37: =SUM(B37:C37) -> 302 | H37: 244 | I37: 154 | J37: =SUM(H37:I37) -> 398 | K37: 18 | L37: 23 | M37: =SUM(K37:L37) -> 41 | N37: =SUM(B37,E37,H37,K37) -> 446 | O37: =SUM(C37,F37,I37,L37) -> 295 | P37: =SUM(N37:O37) -> 741
B38: 18 | C38: 30 | D38: =SUM(B38:C38) -> 48 | H38: 48 | I38: 41 | J38: =SUM(H38:I38) -> 89 | K38: 18 | L38: 20 | M38: =SUM(K38:L38) -> 38 | N38: =SUM(B38,E38,H38,K38) -> 84 | O38: =SUM(C38,F38,I38,L38) -> 91 | P38: =SUM(N38:O38) -> 175
A39: 教育学 | B39: 81 | C39: 116 | D39: =SUM(B39:C39) -> 197 | H39: 114 | I39: 132 | J39: =SUM(H39:I39) -> 246 | K39: 8 | L39: 15 | M39: =SUM(K39:L39) -> 23 | N39: =SUM(B39,E39,H39,K39) -> 203 | O39: =SUM(C39,F39,I39,L39) -> 263 | P39: =SUM(N39:O39) -> 466
B40: 3 | C40: 19 | D40: =SUM(B40:C40) -> 22 | H40: 7 | I40: 23 | J40: =SUM(H40:I40) -> 30 | K40: 6 | L40: 11 | M40: =SUM(K40:L40) -> 17 | N40: =SUM(B40,E40,H40,K40) -> 16 | O40: =SUM(C40,F40,I40,L40) -> 53 | P40: =SUM(N40:O40) -> 69
A41: 法学政治学 | B41: 39 | C41: 14 | D41: =SUM(B41:C41) -> 53 | E41: 294 | F41: 194 | G41: =SUM(E41:F41) -> 488 | H41: 71 | I41: 27 | J41: =SUM(H41:I41) -> 98 | K41: 10 | L41: 5 | M41: =SUM(K41:L41) -> 15 | N41: =SUM(B41,E41,H41,K41) -> 414 | O41: =SUM(C41,F41,I41,L41) -> 240 | P41: =SUM(N41:O41) -> 654
...

Sheet 1_2_2
A2: 学生・研究生・聴講生数
A3: 情報学環教育部研究生
A4: 教育部 | B4: 教育部研究生 | D4: 合 計
B5: 男 | C5: 女
A6: 情報学環教育部 | B6: 50 | C6: 50 | D6: =SUM(B6:C6) -> 100
B7: 0 | C7: 0 | D7: =SUM(B7:C7) -> 0
D8: （令和8年5月1日現在）
A9: 〈備考〉1．本表の上段は総数を示し、下段は外国人留学生数を内数で示す。
A10: 2．教育部研究生とは、情報学環教育部において、学際的な情報学の教育指導を受けている者。本学学部学生かつ教育部研究生である者を含む。
A12: 研究所研究生
A13: 研究所 | B13: 研究所研究生 | D13: 合 計
B14: 男 | C14: 女
A15: 医科学研究所 | B15: 4 | C15: 0 | D15: =SUM(B15:C15) -> 4
B16: 0 | C16: 0 | D16: =SUM(B16:C16) -> 0
A17: 地震研究所 | B17: 1 | C17: 0 | D17: =SUM(B17:C17) -> 1
B18: 0 | C18: 0 | D18: =SUM(B18:C18) -> 0
A19: 生産技術研究所 | B19: 6 | C19: 1 | D19: =SUM(B19:C19) -> 7
B20: 5 | C20: 0 | D20: =SUM(B20:C20) -> 5
A21: 定量生命科学研究所 | B21: 1 | C21: 0 | D21: =SUM(B21:C21) -> 1
B22: 1 | C22: 0 | D22: =SUM(B22:C22) -> 1
A23: 物性研究所 | B23: 0 | C23: 1 | D23: =SUM(B23:C23) -> 1
B24: 0 | C24: 1 | D24: =SUM(B24:C24) -> 1
A25: 大気海洋研究所 | B25: 1 | C25: 1 | D25: =SUM(B25:C25) -> 2
B26: 1 | C26: 1 | D26: =SUM(B26:C26) -> 2
A27: 先端科学技術研究センター | B27: 1 | C27: 0 | D27: =SUM(B27:C27) -> 1
B28: 1 | C28: 0 | D28: =SUM(B28:C28) -> 1
A29: 合計 | B29: =SUM(B15,B17,B19,B21,B23,B25,B27) -> 14 | C29: =SUM(C15,C17,C19,C21,C23,C25,C27) -> 3 | D29: =SUM(D15,D17,D19,D21,D23,D25,D27) -> 17
B30: =SUM(B16,B18,B20,B22,B24,B26,B28) -> 8 | C30: =SUM(C16,C18,C20,C22,C24,C26,C28) -> 2 | D30: =SUM(D16,D18,D20,D22,D24,D26,D28) -> 10
D31: （令和8年5月1日現在）
A32: ＊当該日時点で、1人以上研究生のいる研究所のみを抜粋して掲載。
A33: 〈備考〉1．本表の上段は総数を示し、下段は外国人留学生数を内数で示す。
A34: 2．研究所研究生とは、研究所において特定の事項を研究している者。
A36: 学生・研究生・聴講生数
A37: 合計 | B37: 学生 | E37: 研究生 | H37: 聴講生 | K37: 計 | M37: 総計
B38: 男 | C38: 女 | D38: 小計 | E38: 男 | F38: 女 | G38: 小計 | H38: 男 | I38: 女 | J38: 小計 | K38: 男 | L38: 女
B39: ='1_2_1'!C28+'1_2_1'!B67+'1_2_1'!E67+'1_2_1'!H67 -> 22088 | C39: ='1_2_1'!D28+'1_2_1'!C67+'1_2_1'!F67+'1_2_1'!I67 -> 7311 | D39: =SUM(B39:C39) -> 29399 | E39: ='1_2_1'!F28+'1_2_1'!K67+'1_2_2'!B6+'1_2_2'!B29 -> 457 | F39: ='1_2_1'!G28+'1_2_1'!L67+'1_2_2'!C6+'1_2_2'!C29 -> 292 | G39: =SUM(E39:F39) -> 749 | H39: ='1_2_1'!I28 -> 28 | I39: ='1_2_1'!J28 -> 7 | J39: =SUM(H39:I39) -> 35 | K39: =SUM(B39,E39,H39) -> 22573 | L39: =SUM(C39,F39,I39) -> 7610 | M39: =SUM(K39:L39) -> 30183
B40: ='1_2_1'!C29+'1_2_1'!B68+'1_2_1'!E68+'1_2_1'!H68 -> 2922 | C40: ='1_2_1'!D29+'1_2_1'!C68+'1_2_1'!F68+'1_2_1'!I68 -> 1648 | D40: =SUM(B40:C40) -> 4570 | E40: ='1_2_1'!F29+'1_2_1'!K68+'1_2_2'!B7+'1_2_2'!B30 -> 328 | F40: ='1_2_1'!G29+'1_2_1'!L68+'1_2_2'!C7+'1_2_2'!C30 -> 211 | G40: =SUM(E40:F40) -> 539 | H40: ='1_2_1'!I29 -> 1 | I40: ='1_2_1'!J29 -> 0 | J40: =SUM(H40:I40) -> 1 | K40: =SUM(B40,E40,H40) -> 3251 | L40: =SUM(C40,F40,I40) -> 1859 | M40: =SUM(K40:L40) -> 5110
A41: 〈備考〉1．本表の上段は総数を示し、下段は外国人留学生数を内数で示す。 | M41: （令和8年5月1日現在）
A42: 2．本表には特別聴講学生および科目等履修生は含まない。
A43: 3．研究生数には本学学部学生かつ研究生である者を含むため、計・総計は延べ数である。
...
